BEGIN:VCALENDAR
VERSION:2.0
PRODID:-//Southeastern Oklahoma State University - ECPv6.15.3//NONSGML v1.0//EN
CALSCALE:GREGORIAN
METHOD:PUBLISH
X-ORIGINAL-URL:https://www.se.edu
X-WR-CALDESC:Events for Southeastern Oklahoma State University
REFRESH-INTERVAL;VALUE=DURATION:PT1H
X-Robots-Tag:noindex
X-PUBLISHED-TTL:PT1H
BEGIN:VTIMEZONE
TZID:America/Chicago
BEGIN:DAYLIGHT
TZOFFSETFROM:-0600
TZOFFSETTO:-0500
TZNAME:CDT
DTSTART:20250309T080000
END:DAYLIGHT
BEGIN:STANDARD
TZOFFSETFROM:-0500
TZOFFSETTO:-0600
TZNAME:CST
DTSTART:20251102T070000
END:STANDARD
END:VTIMEZONE
BEGIN:VEVENT
DTSTART;TZID=America/Chicago:20250403T093000
DTEND;TZID=America/Chicago:20250403T120000
DTSTAMP:20260421T021911
CREATED:20250304T164943Z
LAST-MODIFIED:20250304T164944Z
UID:10000983-1743672600-1743681600@www.se.edu
SUMMARY:The Great Cross Country Race
DESCRIPTION:Go to www.SE.edu/VPAC to secure your $2 tickets and use promo code: POPurchase if paying with PO\, check\, or cash.\nPayment due by performance date. \nSHOW TIMES: \nMarch 31: 9 a.m.\, 10:30 a.m.\, 1 p.m.\nApril 1: 9:30 a.m.\, 11 a.m.\nApril 2: 9 a.m.\, 10:30 a.m.\, 1 p.m.\nApril 3: 9:30 a.m.\, 11 a.m.\, 7 p.m.
URL:https://www.se.edu/event/the-great-cross-country-race/2025-04-03/1/
LOCATION:Montgomery Auditorium\, Durant\, OK\, United States
CATEGORIES:Theatre
ATTACH;FMTTYPE=image/png:https://www.se.edu/wp-content/uploads/2025/03/Great-XC-Race.png
GEO:34.044944;-96.321428
END:VEVENT
BEGIN:VEVENT
DTSTART;TZID=America/Chicago:20250403T150000
DTEND;TZID=America/Chicago:20250403T163000
DTSTAMP:20260421T021911
CREATED:20250116T142527Z
LAST-MODIFIED:20250116T142527Z
UID:10000704-1743692400-1743697800@www.se.edu
SUMMARY:Group Counseling
DESCRIPTION:Meets every Wednesday 1-2:30pm:\nThe power of the pause & other healthy communication skills.\nMeets every Thursday 3-4:30pm:\nU!Shine Healthy Habits-Gain insight and tools to help improve your overall mental & emotional health.\n\nMeets in SU 229
URL:https://www.se.edu/event/group-counseling-2/2025-04-03/
LOCATION:Glen D. Johnson Student Union\, Durant\, OK\, United States
CATEGORIES:Campus Wellness
ATTACH;FMTTYPE=image/png:https://www.se.edu/wp-content/uploads/2025/01/Spring-2025-Counseling-groups.png
GEO:34.044944;-96.321428
END:VEVENT
BEGIN:VEVENT
DTSTART;TZID=America/Chicago:20250403T163000
DTEND;TZID=America/Chicago:20250403T173000
DTSTAMP:20260421T021911
CREATED:20250123T145423Z
LAST-MODIFIED:20250203T210621Z
UID:10000890-1743697800-1743701400@www.se.edu
SUMMARY:Comic Book Club
DESCRIPTION:
URL:https://www.se.edu/event/comic-book-club/2025-04-03/
LOCATION:Glen D. Johnson Student Union\, Durant\, OK\, United States
CATEGORIES:Student Life,Student Organization Sponsored
ATTACH;FMTTYPE=image/jpeg:https://www.se.edu/wp-content/uploads/2025/01/Pow-Comic-Book-Club-Flyer.jpg
GEO:34.044944;-96.321428
END:VEVENT
BEGIN:VEVENT
DTSTART;TZID=America/Chicago:20250403T170000
DTEND;TZID=America/Chicago:20250403T190000
DTSTAMP:20260421T021911
CREATED:20250123T145525Z
LAST-MODIFIED:20250123T145525Z
UID:10000905-1743699600-1743706800@www.se.edu
SUMMARY:Student Government Association Meeting
DESCRIPTION:
URL:https://www.se.edu/event/student-government-association-meeting/2025-04-03/
LOCATION:Glen D. Johnson Student Union\, Durant\, OK\, United States
CATEGORIES:Student Life
GEO:34.044944;-96.321428
END:VEVENT
BEGIN:VEVENT
DTSTART;TZID=America/Chicago:20250403T190000
DTEND;TZID=America/Chicago:20250403T203000
DTSTAMP:20260421T021911
CREATED:20250304T164943Z
LAST-MODIFIED:20250304T164944Z
UID:10000984-1743706800-1743712200@www.se.edu
SUMMARY:The Great Cross Country Race
DESCRIPTION:Go to www.SE.edu/VPAC to secure your $2 tickets and use promo code: POPurchase if paying with PO\, check\, or cash.\nPayment due by performance date. \nSHOW TIMES: \nMarch 31: 9 a.m.\, 10:30 a.m.\, 1 p.m.\nApril 1: 9:30 a.m.\, 11 a.m.\nApril 2: 9 a.m.\, 10:30 a.m.\, 1 p.m.\nApril 3: 9:30 a.m.\, 11 a.m.\, 7 p.m.
URL:https://www.se.edu/event/the-great-cross-country-race/2025-04-03/2/
LOCATION:Montgomery Auditorium\, Durant\, OK\, United States
CATEGORIES:Theatre
ATTACH;FMTTYPE=image/png:https://www.se.edu/wp-content/uploads/2025/03/Great-XC-Race.png
GEO:34.044944;-96.321428
END:VEVENT
BEGIN:VEVENT
DTSTART;TZID=America/Chicago:20250403T200000
DTEND;TZID=America/Chicago:20250403T220000
DTSTAMP:20260421T021911
CREATED:20250123T145701Z
LAST-MODIFIED:20250123T145701Z
UID:10000920-1743710400-1743717600@www.se.edu
SUMMARY:BCM Crossroads
DESCRIPTION:
URL:https://www.se.edu/event/bcm-crossroads-2/2025-04-03/
LOCATION:Baptist Collegiate Ministries\, 350 Montgomery Dr.\, Durant\, OK\, 74701\, United States
CATEGORIES:BCM
END:VEVENT
END:VCALENDAR