BEGIN:VCALENDAR
VERSION:2.0
PRODID:-//Southeastern Oklahoma State University - ECPv6.15.3//NONSGML v1.0//EN
CALSCALE:GREGORIAN
METHOD:PUBLISH
X-WR-CALNAME:Southeastern Oklahoma State University
X-ORIGINAL-URL:https://www.se.edu
X-WR-CALDESC:Events for Southeastern Oklahoma State University
REFRESH-INTERVAL;VALUE=DURATION:PT1H
X-Robots-Tag:noindex
X-PUBLISHED-TTL:PT1H
BEGIN:VTIMEZONE
TZID:America/Chicago
BEGIN:DAYLIGHT
TZOFFSETFROM:-0600
TZOFFSETTO:-0500
TZNAME:CDT
DTSTART:20250309T080000
END:DAYLIGHT
BEGIN:STANDARD
TZOFFSETFROM:-0500
TZOFFSETTO:-0600
TZNAME:CST
DTSTART:20251102T070000
END:STANDARD
END:VTIMEZONE
BEGIN:VEVENT
DTSTART;TZID=America/Chicago:20250916T110000
DTEND;TZID=America/Chicago:20250916T140000
DTSTAMP:20260421T173100
CREATED:20250909T141624Z
LAST-MODIFIED:20250909T155146Z
UID:10001202-1758020400-1758031200@www.se.edu
SUMMARY:Constitution Day
DESCRIPTION:  \nEach year on September 17\, we commemorate the signing of the U.S. Constitution—the foundation of our democracy and the rights we hold dear.  To learn and experience more about our constitution\, our Henry G. Bennett Memorial Library will be hosting a display in Henry’s\, on the 1st floor.  There will be handouts with resources and other fun visuals. \nAlso\, what better way to honor this historic day than by exercising one of your most powerful rights as a citizen: your right to vote.  ​​As new students and community members join us from across the country here in Durant\, we invite you to be part of this national tradition. Join us for a campus-wide Voter Registration Event on Tuesday\, September 17\, from 11:00 a.m. to 2:00 p.m. in the Student Union Atrium. \nCan’t make it on the 17th? No problem! SGA and Election Board representatives will also be available on Monday\, September 16\, during the same hours and location\, to help you get registered.  You may also pick up a voter registration packet in the Office of Student Affairs\, Student Union 312\, during business hours at any time. \nThis event is hosted in partnership with the Bryan County Election Board\, the SE Student Government Association\, the H.G. Bennett Library\, and the Division of Student Affairs.  They will be available to answer any questions you may have. \nStop By.  Educate Yourself.  Get Involved.\nRegister to vote this Constitution Day and learn more about your Nation!
URL:https://www.se.edu/event/constitution-day/2025-09-16/
CATEGORIES:Community Events,Student Life,Student Organization Sponsored
ATTACH;FMTTYPE=image/png:https://www.se.edu/wp-content/uploads/2025/09/Constitution-Day-1.png
END:VEVENT
BEGIN:VEVENT
DTSTART;TZID=America/Chicago:20250917T110000
DTEND;TZID=America/Chicago:20250917T140000
DTSTAMP:20260421T173100
CREATED:20250909T141624Z
LAST-MODIFIED:20250909T155146Z
UID:10001203-1758106800-1758117600@www.se.edu
SUMMARY:Constitution Day
DESCRIPTION:  \nEach year on September 17\, we commemorate the signing of the U.S. Constitution—the foundation of our democracy and the rights we hold dear.  To learn and experience more about our constitution\, our Henry G. Bennett Memorial Library will be hosting a display in Henry’s\, on the 1st floor.  There will be handouts with resources and other fun visuals. \nAlso\, what better way to honor this historic day than by exercising one of your most powerful rights as a citizen: your right to vote.  ​​As new students and community members join us from across the country here in Durant\, we invite you to be part of this national tradition. Join us for a campus-wide Voter Registration Event on Tuesday\, September 17\, from 11:00 a.m. to 2:00 p.m. in the Student Union Atrium. \nCan’t make it on the 17th? No problem! SGA and Election Board representatives will also be available on Monday\, September 16\, during the same hours and location\, to help you get registered.  You may also pick up a voter registration packet in the Office of Student Affairs\, Student Union 312\, during business hours at any time. \nThis event is hosted in partnership with the Bryan County Election Board\, the SE Student Government Association\, the H.G. Bennett Library\, and the Division of Student Affairs.  They will be available to answer any questions you may have. \nStop By.  Educate Yourself.  Get Involved.\nRegister to vote this Constitution Day and learn more about your Nation!
URL:https://www.se.edu/event/constitution-day/2025-09-17/
CATEGORIES:Community Events,Student Life,Student Organization Sponsored
ATTACH;FMTTYPE=image/png:https://www.se.edu/wp-content/uploads/2025/09/Constitution-Day-1.png
END:VEVENT
BEGIN:VEVENT
DTSTART;TZID=America/Chicago:20250917T183000
DTEND;TZID=America/Chicago:20250917T200000
DTSTAMP:20260421T173100
CREATED:20250905T133707Z
LAST-MODIFIED:20250905T133708Z
UID:10001199-1758133800-1758139200@www.se.edu
SUMMARY:SOS Grant: Tony Hoffman - From Prison to the Olympics
DESCRIPTION:Tony Hoffman is the world’s leading speaker on mental health\, addiction & recovery!\n\nOn May 17\, 2007\, Tony started his recovery journey. He’s been on a mission to help others ever since\, becoming a motivational speaker for substance abuse prevention and mental wellness. While traveling the United States 250 days a year\, Tony speaks about his experiences with mental health\, substance abuse\, addiction\, and recovery. He is an author and co-founded pH Wellness\, a drug and alcohol rehabilitation center located in Southern California.
URL:https://www.se.edu/event/sos-grant-tony-hoffman-from-prison-to-the-olympics/
LOCATION:Bloomer Sullivan Arena\, 1713 N. First\, Durant\, OK\, 74701\, United States
CATEGORIES:Campus Wellness,Community Events,Faculty/Staff Events,Student Services
ATTACH;FMTTYPE=image/jpeg:https://www.se.edu/wp-content/uploads/2025/09/Tony-Hoffman-SOS.jpg
GEO:34.044944;-96.321428
X-APPLE-STRUCTURED-LOCATION;VALUE=URI;X-ADDRESS=Bloomer Sullivan Arena 1713 N. First Durant OK 74701 United States;X-APPLE-RADIUS=500;X-TITLE=1713 N. First:geo:-96.321428,34.044944
END:VEVENT
BEGIN:VEVENT
DTSTART;TZID=America/Chicago:20250920T150000
DTEND;TZID=America/Chicago:20250920T180000
DTSTAMP:20260421T173100
CREATED:20250908T201931Z
LAST-MODIFIED:20250908T202117Z
UID:10001200-1758380400-1758391200@www.se.edu
SUMMARY:True Blue BBQ Contest
DESCRIPTION:Join us on September 20\, 2025 for the True Blue BBQ Contest!\nRegistration Deadline: Wednesday\, September 17\, 2025\nBe sure to review the Rules and Regulations on the flyer. \nRegister NOW \n 
URL:https://www.se.edu/event/true-blue-bbq-contest/
LOCATION:Tailgate Alley\, 1435 North 2nd Avenue\, Durant\, OK\, 74701\, United States
CATEGORIES:Alumni Events,Community Events,Faculty/Staff Events,Tailgate Events
ATTACH;FMTTYPE=image/jpeg:https://www.se.edu/wp-content/uploads/2025/09/True-Blue-BBQ-2025-social-media-square-scaled.jpg
GEO:34.044944;-96.321428
X-APPLE-STRUCTURED-LOCATION;VALUE=URI;X-ADDRESS=Tailgate Alley 1435 North 2nd Avenue Durant OK 74701 United States;X-APPLE-RADIUS=500;X-TITLE=1435 North 2nd Avenue:geo:-96.321428,34.044944
END:VEVENT
END:VCALENDAR