BEGIN:VCALENDAR
VERSION:2.0
PRODID:-//Southeastern Oklahoma State University - ECPv6.15.3//NONSGML v1.0//EN
CALSCALE:GREGORIAN
METHOD:PUBLISH
X-ORIGINAL-URL:https://www.se.edu
X-WR-CALDESC:Events for Southeastern Oklahoma State University
REFRESH-INTERVAL;VALUE=DURATION:PT1H
X-Robots-Tag:noindex
X-PUBLISHED-TTL:PT1H
BEGIN:VTIMEZONE
TZID:America/Chicago
BEGIN:DAYLIGHT
TZOFFSETFROM:-0600
TZOFFSETTO:-0500
TZNAME:CDT
DTSTART:20260308T080000
END:DAYLIGHT
BEGIN:STANDARD
TZOFFSETFROM:-0500
TZOFFSETTO:-0600
TZNAME:CST
DTSTART:20261101T070000
END:STANDARD
END:VTIMEZONE
BEGIN:VEVENT
DTSTART;TZID=America/Chicago:20260307T080000
DTEND;TZID=America/Chicago:20260307T170000
DTSTAMP:20260421T161154
CREATED:20260303T185444Z
LAST-MODIFIED:20260303T185445Z
UID:10001418-1772870400-1772902800@www.se.edu
SUMMARY:Aladdin Auditions
DESCRIPTION:Aladdin Auditions\nMarch 6 & 7\nAuditions OPEN TO ALL and are by appointment ONLY\n(Theatre Playhouse on SE’s Campus by the baseball fields)\nMontgomery Auditorium\n$10.00 per ticket | Click to purchase tickets\nTickets can also be purchased by calling: 580-745-2696 | rcoker@se.edu
URL:https://www.se.edu/event/aladdin-auditions/2026-03-07/
CATEGORIES:Community Events,Oklahoma Shakespearean Festival,Theatre
ATTACH;FMTTYPE=image/png:https://www.se.edu/wp-content/uploads/2026/03/Childrens-Theatre-AUDITIONS.png
END:VEVENT
END:VCALENDAR