BEGIN:VCALENDAR
VERSION:2.0
PRODID:-//Southeastern Oklahoma State University - ECPv6.15.3//NONSGML v1.0//EN
CALSCALE:GREGORIAN
METHOD:PUBLISH
X-WR-CALNAME:Southeastern Oklahoma State University
X-ORIGINAL-URL:https://www.se.edu
X-WR-CALDESC:Events for Southeastern Oklahoma State University
REFRESH-INTERVAL;VALUE=DURATION:PT1H
X-Robots-Tag:noindex
X-PUBLISHED-TTL:PT1H
BEGIN:VTIMEZONE
TZID:America/Chicago
BEGIN:DAYLIGHT
TZOFFSETFROM:-0600
TZOFFSETTO:-0500
TZNAME:CDT
DTSTART:20250309T080000
END:DAYLIGHT
BEGIN:STANDARD
TZOFFSETFROM:-0500
TZOFFSETTO:-0600
TZNAME:CST
DTSTART:20251102T070000
END:STANDARD
BEGIN:DAYLIGHT
TZOFFSETFROM:-0600
TZOFFSETTO:-0500
TZNAME:CDT
DTSTART:20260308T080000
END:DAYLIGHT
BEGIN:STANDARD
TZOFFSETFROM:-0500
TZOFFSETTO:-0600
TZNAME:CST
DTSTART:20261101T070000
END:STANDARD
END:VTIMEZONE
BEGIN:VEVENT
DTSTART;TZID=America/Chicago:20251211T153000
DTEND;TZID=America/Chicago:20251211T163000
DTSTAMP:20260422T173051
CREATED:20251203T033036Z
LAST-MODIFIED:20251203T033036Z
UID:10001313-1765467000-1765470600@www.se.edu
SUMMARY:NAI Graduation Reception
DESCRIPTION:NAI Graduation Reception Dec 11
URL:https://www.se.edu/event/nai-graduation-reception/
CATEGORIES:Community Events,Faculty/Staff Events,Native American Institute,Tribal Relations
ATTACH;FMTTYPE=image/png:https://www.se.edu/wp-content/uploads/2025/12/Class-of-FALL-2025.png
END:VEVENT
BEGIN:VEVENT
DTSTART;TZID=America/Chicago:20260203T100000
DTEND;TZID=America/Chicago:20260204T160000
DTSTAMP:20260422T173051
CREATED:20260202T214510Z
LAST-MODIFIED:20260202T214510Z
UID:10001389-1770112800-1770220800@www.se.edu
SUMMARY:Blood Drive
DESCRIPTION:  \nOSL/OBI Blood Drive – Day 1 \n10:00 a.m. – 4:00 p.m.\, SU Loft \nOSL support table downstairs 11:00 a.m.–2:00 p.m. \nSnacks + encouragement to go upstairs 2nd SU loft
URL:https://www.se.edu/event/blood-drive-3/
CATEGORIES:Community Events,Faculty/Staff Events,Student Life
ATTACH;FMTTYPE=image/png:https://www.se.edu/wp-content/uploads/2025/12/SE-Alone-gold.png
END:VEVENT
BEGIN:VEVENT
DTSTART;VALUE=DATE:20260207
DTEND;VALUE=DATE:20260214
DTSTAMP:20260422T173051
CREATED:20260202T214726Z
LAST-MODIFIED:20260202T214726Z
UID:10001390-1770422400-1771027199@www.se.edu
SUMMARY:Random Acts of Kindness Week
DESCRIPTION:Random Acts of Kindness Week begins (2026) leading to the final day in partnership (Feb 13th) with First United Bank’s United Acts of Kindness
URL:https://www.se.edu/event/random-acts-of-kindness-week/
CATEGORIES:Community Events,Faculty/Staff Events,Student Life
ATTACH;FMTTYPE=image/png:https://www.se.edu/wp-content/uploads/2025/12/SE-Alone-gold.png
END:VEVENT
BEGIN:VEVENT
DTSTART;VALUE=DATE:20260213
DTEND;VALUE=DATE:20260214
DTSTAMP:20260422T173051
CREATED:20260202T215101Z
LAST-MODIFIED:20260202T215101Z
UID:10001392-1770940800-1771027199@www.se.edu
SUMMARY:United Acts of Kindness (First United)
DESCRIPTION:Random Acts of Kindness Week begins (2026) leading to the final day in partnership (Feb 13th) with First United Bank’s United Acts of Kindness
URL:https://www.se.edu/event/united-acts-of-kindness-first-united/
CATEGORIES:Community Events,Student Life
ATTACH;FMTTYPE=image/png:https://www.se.edu/wp-content/uploads/2025/12/SE-Alone-gold.png
END:VEVENT
BEGIN:VEVENT
DTSTART;VALUE=DATE:20260220
DTEND;VALUE=DATE:20260222
DTSTAMP:20260422T173051
CREATED:20260109T134823Z
LAST-MODIFIED:20260109T134823Z
UID:10001382-1771545600-1771718399@www.se.edu
SUMMARY:Scholarship Competition Weekend 2026
DESCRIPTION:Scholarship Competition Weekend is for the selection process for our Premier Programs\, President’s Leadership Class (PLC) and The Honors Program. Students will receive an invitation to participate in January. \nIf you have questions please call Admissions and Recruitment at 580-745-2060.
URL:https://www.se.edu/event/scholarship-competition-weekend-2026/
CATEGORIES:Admissions & Recruitment,Community Events,Informational Sessions,Student Life
ATTACH;FMTTYPE=image/png:https://www.se.edu/wp-content/uploads/2025/12/SE-Alone-gold.png
END:VEVENT
BEGIN:VEVENT
DTSTART;TZID=America/Chicago:20260224T080000
DTEND;TZID=America/Chicago:20260224T170000
DTSTAMP:20260422T173051
CREATED:20260224T201609Z
LAST-MODIFIED:20260224T201610Z
UID:10001407-1771920000-1771952400@www.se.edu
SUMMARY:SE Soccer Club
DESCRIPTION:Join us in cheering on the Southeastern Soccer Club \nSE vs Durant Heat\nSunday\, March 1\n7:00 pm | Paul Laird Field \nIf you have questions regarding SE Soccer Club contact\, Filip Pavlovic | fpavlovic@se.edu | (580) 745-2062
URL:https://www.se.edu/event/se-soccer-club/
CATEGORIES:Community Events,Student Life,Student Organization Sponsored
ATTACH;FMTTYPE=image/jpeg:https://www.se.edu/wp-content/uploads/2026/02/Icon-01.jpg
END:VEVENT
BEGIN:VEVENT
DTSTART;TZID=America/Chicago:20260226T100000
DTEND;TZID=America/Chicago:20260226T150000
DTSTAMP:20260422T173051
CREATED:20251210T175549Z
LAST-MODIFIED:20251210T175549Z
UID:10001323-1772100000-1772118000@www.se.edu
SUMMARY:2026 Safety Career Fair
DESCRIPTION:2026 Safety Career Fair\nThursday\, February 26\, 2026\nHallie McKinney Ballroom | 10:00 AM – 3:00 PM \nThe Spring Safety Career Fair is being held in conjunction with the 2026 Safety Olympics Competition.  Students from various schools will be on campus to compete in safety-related events. \n\nStudent Registration \nEmployer Registration
URL:https://www.se.edu/event/2026-safety-career-fair/
CATEGORIES:Career Services,Community Events,Informational Sessions,Occupational Safety & Health,Student Life
ATTACH;FMTTYPE=image/jpeg:https://www.se.edu/wp-content/uploads/2025/09/2025-All-Majors-Career-Fair-Action.jpg
END:VEVENT
BEGIN:VEVENT
DTSTART;TZID=America/Chicago:20260304T080000
DTEND;TZID=America/Chicago:20260304T170000
DTSTAMP:20260422T173051
CREATED:20251210T170744Z
LAST-MODIFIED:20251210T170744Z
UID:10001320-1772611200-1772643600@www.se.edu
SUMMARY:Prospective Teacher Academy-McCurtain County Edition
DESCRIPTION:Join us for Prospective Teacher Academy\nat the McCurtain County Campus in Idabel\, OK \nRegistration coming soon!
URL:https://www.se.edu/event/prospective-teacher-academy-mccurtain-county-edition/
CATEGORIES:Admissions & Recruitment,Alumni Events,Community Events,Informational Sessions,McCurtain County Campus
ATTACH;FMTTYPE=image/png:https://www.se.edu/wp-content/uploads/2025/12/SE-Alone-gold.png
END:VEVENT
BEGIN:VEVENT
DTSTART;TZID=America/Chicago:20260305T080000
DTEND;TZID=America/Chicago:20260305T170000
DTSTAMP:20260422T173051
CREATED:20260305T205406Z
LAST-MODIFIED:20260305T205406Z
UID:10001421-1772697600-1772730000@www.se.edu
SUMMARY:Springfest 2026
DESCRIPTION:SPRINGFEST 2026\nApril 13 – 16 \n80’s 90’s ’00s \nJoin us for the Block Party\, grab a blanket and enjoy a movie under the stars\, show up loud for the Talent Show\, get after it at Mud Volleyball\, and take a breather at Lunch on the Lawn. Bring your friends\, bring your energy\, and get ready for so much MORE all week long. GO SAVAGE STORM! \nPlease contact the Office of Student Life at 580-745-2266 to request accommodations. 
URL:https://www.se.edu/event/springfest-2026/
CATEGORIES:Community Events,Faculty/Staff Events,Student Life
ATTACH;FMTTYPE=image/jpeg:https://www.se.edu/wp-content/uploads/2026/03/ingfest.jpg
END:VEVENT
BEGIN:VEVENT
DTSTART;VALUE=DATE:20260306
DTEND;VALUE=DATE:20260307
DTSTAMP:20260422T173051
CREATED:20260303T191227Z
LAST-MODIFIED:20260303T191228Z
UID:10001420-1772755200-1772841599@www.se.edu
SUMMARY:3rd Annual Giving Day
DESCRIPTION:3rd Annual Giving Day \nMarch 6 | ALL DAY\nVisit GIVE TO SE to make a donation
URL:https://www.se.edu/event/3rd-annual-giving-day/
CATEGORIES:Alumni Events,Athletics,Career Services,Community Events,Faculty/Staff Events,Legacy Speaker Series,McCurtain County Campus,Music,Native American Institute,Occupational Safety & Health,Student Life,Student Services,Theatre,Tribal Relations,Visual Arts Department
ATTACH;FMTTYPE=image/png:https://www.se.edu/wp-content/uploads/2026/03/Giving-Day-2026-Blue.png
END:VEVENT
BEGIN:VEVENT
DTSTART;TZID=America/Chicago:20260306T080000
DTEND;TZID=America/Chicago:20260306T170000
DTSTAMP:20260422T173051
CREATED:20260303T185444Z
LAST-MODIFIED:20260303T185445Z
UID:10001417-1772784000-1772816400@www.se.edu
SUMMARY:Aladdin Auditions
DESCRIPTION:Aladdin Auditions\nMarch 6 & 7\nAuditions OPEN TO ALL and are by appointment ONLY\n(Theatre Playhouse on SE’s Campus by the baseball fields)\nMontgomery Auditorium\n$10.00 per ticket | Click to purchase tickets\nTickets can also be purchased by calling: 580-745-2696 | rcoker@se.edu
URL:https://www.se.edu/event/aladdin-auditions/2026-03-06/
CATEGORIES:Community Events,Oklahoma Shakespearean Festival,Theatre
ATTACH;FMTTYPE=image/png:https://www.se.edu/wp-content/uploads/2026/03/Childrens-Theatre-AUDITIONS.png
END:VEVENT
BEGIN:VEVENT
DTSTART;TZID=America/Chicago:20260307T080000
DTEND;TZID=America/Chicago:20260307T170000
DTSTAMP:20260422T173051
CREATED:20260303T185444Z
LAST-MODIFIED:20260303T185445Z
UID:10001418-1772870400-1772902800@www.se.edu
SUMMARY:Aladdin Auditions
DESCRIPTION:Aladdin Auditions\nMarch 6 & 7\nAuditions OPEN TO ALL and are by appointment ONLY\n(Theatre Playhouse on SE’s Campus by the baseball fields)\nMontgomery Auditorium\n$10.00 per ticket | Click to purchase tickets\nTickets can also be purchased by calling: 580-745-2696 | rcoker@se.edu
URL:https://www.se.edu/event/aladdin-auditions/2026-03-07/
CATEGORIES:Community Events,Oklahoma Shakespearean Festival,Theatre
ATTACH;FMTTYPE=image/png:https://www.se.edu/wp-content/uploads/2026/03/Childrens-Theatre-AUDITIONS.png
END:VEVENT
BEGIN:VEVENT
DTSTART;TZID=America/Chicago:20260310T180000
DTEND;TZID=America/Chicago:20260310T193000
DTSTAMP:20260422T173051
CREATED:20260211T170005Z
LAST-MODIFIED:20260211T170355Z
UID:10001402-1773165600-1773171000@www.se.edu
SUMMARY:Chautauqua Storyteller Series | Hailie Giles
DESCRIPTION:
URL:https://www.se.edu/event/chautauqua-storyteller-series-hailie-giles/
CATEGORIES:Alumni Events,Community Events,Tribal Relations
ATTACH;FMTTYPE=image/png:https://www.se.edu/wp-content/uploads/2026/02/Screenshot-2026-02-11-at-10.56.06-AM.png
END:VEVENT
BEGIN:VEVENT
DTSTART;TZID=America/Chicago:20260311T080000
DTEND;TZID=America/Chicago:20260311T170000
DTSTAMP:20260422T173051
CREATED:20251210T174523Z
LAST-MODIFIED:20251210T174523Z
UID:10001321-1773216000-1773248400@www.se.edu
SUMMARY:Prospective Teacher Academy-Durant Edition
DESCRIPTION:Join us for Prospective Teacher Academy\nat the Main Campus in Durant\, OK \nRegistration coming soon!
URL:https://www.se.edu/event/prospective-teacher-academy-durant-edition/
CATEGORIES:Admissions & Recruitment,Alumni Events,Community Events,Informational Sessions,McCurtain County Campus
ATTACH;FMTTYPE=image/png:https://www.se.edu/wp-content/uploads/2025/12/SE-Alone-gold.png
END:VEVENT
BEGIN:VEVENT
DTSTART;TZID=America/Chicago:20260311T140000
DTEND;TZID=America/Chicago:20260311T150000
DTSTAMP:20260422T173051
CREATED:20260203T143119Z
LAST-MODIFIED:20260203T143120Z
UID:10001396-1773237600-1773241200@www.se.edu
SUMMARY:SE Gold Program Flagging Ceremony
DESCRIPTION:On behalf of LTC Richelle Treece\nThe Southeastern Oklahoma State University GOLD Program\ncordially invites you to the \nSE GOLD Flagging Ceremony \nWednesday\, March 11\, 2026\n2:00 pm on the Front Lawn/Plaza\n(inclement weather location will be the Student Union Auditorium)\n425 West University Boulevard\nDurant\, OK 74701-3347
URL:https://www.se.edu/event/se-gold-program-flagging-ceremony/
CATEGORIES:Community Events,Faculty/Staff Events,Student Life
ATTACH;FMTTYPE=image/png:https://www.se.edu/wp-content/uploads/2026/02/Screenshot-2026-02-03-at-8.30.31-AM.png
END:VEVENT
BEGIN:VEVENT
DTSTART;TZID=America/Chicago:20260324T080000
DTEND;TZID=America/Chicago:20260324T170000
DTSTAMP:20260422T173051
CREATED:20260312T192535Z
LAST-MODIFIED:20260312T192535Z
UID:10001426-1774339200-1774371600@www.se.edu
SUMMARY:Ten Minute Play Contest
DESCRIPTION:From PAGE to STAGE\nA Campus Wide Ten Minute Play Contest \n\n\n\n\n\n\n\n\nOpen to all Southeastern students! A chance to see your writing come alive on stage—no theatre experience required. 🎭✍️ \n\nSubmission Deadline: March 24\nHear your work performed by actors | April 20\nFor more information contact: Ruby Quinn | rquinn@se.edu\nRules\n8-10 minutes (approximately 10 -12 pages)\nAny Genre\nAny Subject welcome\nOne setting\nMinimal cast (limit of 6 characters)\n\nJudges will be professionals in the field of theatre and writing \nTo make a submission click the link below\nSubmission form
URL:https://www.se.edu/event/ten-minute-play-contest/
CATEGORIES:Admissions & Recruitment,Community Events,Student Life,Theatre
ATTACH;FMTTYPE=image/jpeg:https://www.se.edu/wp-content/uploads/2026/03/Short-Play.jpg
END:VEVENT
BEGIN:VEVENT
DTSTART;TZID=America/Chicago:20260325T080000
DTEND;TZID=America/Chicago:20260325T150000
DTSTAMP:20260422T173051
CREATED:20260109T162734Z
LAST-MODIFIED:20260210T162733Z
UID:10001387-1774425600-1774450800@www.se.edu
SUMMARY:Curriculum Contest
DESCRIPTION:The 111th Annual Oklahoma Inter-High School Curriculum Meet will be held on Wednesday March 25\, 2026. \nFor more information regarding the event\, i.e. contest rules and regulations\, testing locations\, etc.\, please visit the contest website at https://contest.se.edu. \nIf you have any questions or concerns\, you may reach out to the Office of Admissions and Recruitment at 580.745.2060.
URL:https://www.se.edu/event/curriculum-contest/
CATEGORIES:Academic,Admissions & Recruitment,Community Events
ATTACH;FMTTYPE=image/png:https://www.se.edu/wp-content/uploads/2025/12/SE-Alone-gold.png
END:VEVENT
BEGIN:VEVENT
DTSTART;VALUE=DATE:20260327
DTEND;VALUE=DATE:20260328
DTSTAMP:20260422T173051
CREATED:20260305T224143Z
LAST-MODIFIED:20260305T224143Z
UID:10001422-1774569600-1774655999@www.se.edu
SUMMARY:Imagine Action: Dance Edition
DESCRIPTION:  \n  \n  \n  \n  \n  \n  \nJoin us on Friday\, 27 March for a day of dance workshops with our experienced faculty.  You’ll even get to have your headshot taken! \nBallet\, Tap\, Music Theatre\, Jazz\, Hip Hop\, Contempary \nA FREE interactive performing arts day designed to give students exposure and engagement with the Department of Performing Arts’ in-person DANCE MINOR! \nOpen to Current SE Students interested in a Dance Minor. \nAll experience levels are welcome\, even those who have never danced before. \nBest part?  It’s FREE! \nContact Email mjorgenson@se.edu and register TODAY! \nCome dance with us!
URL:https://www.se.edu/event/imagine-action-dance-edition/
CATEGORIES:Community Events,Oklahoma Shakespearean Festival,Theatre
ATTACH;FMTTYPE=image/png:https://www.se.edu/wp-content/uploads/2026/03/Screenshot-2026-03-05-at-4.38.10-PM.png
END:VEVENT
BEGIN:VEVENT
DTSTART;TZID=America/Chicago:20260327T160000
DTEND;TZID=America/Chicago:20260327T170000
DTSTAMP:20260422T173051
CREATED:20260309T182434Z
LAST-MODIFIED:20260309T182434Z
UID:10001423-1774627200-1774630800@www.se.edu
SUMMARY:Narcan Training
DESCRIPTION:Narcan Training: Overdoes reversal \nFREE\nFriday\, March 27 | 4:00 pm\nStudent Union Room 202 \nTraining Includes:\nPre/post test to assess your knowledge\nQuick Video and Demonstration\nFREE Narcan and Fentanyl test strips \nIf you require accommodations\, please contact the Student Wellness Services at 580-745-2988 to request assistance. 
URL:https://www.se.edu/event/narcan-training-2/
CATEGORIES:Community Events,Student Life,Student Services
ATTACH;FMTTYPE=image/png:https://www.se.edu/wp-content/uploads/2026/03/Screenshot-2026-03-09-at-1.22.28-PM.png
END:VEVENT
BEGIN:VEVENT
DTSTART;TZID=America/Chicago:20260328T080000
DTEND;TZID=America/Chicago:20260328T170000
DTSTAMP:20260422T173051
CREATED:20260303T185900Z
LAST-MODIFIED:20260303T185900Z
UID:10001419-1774684800-1774717200@www.se.edu
SUMMARY:Lightning Thief Auditions
DESCRIPTION:Lightning Thief Auditions\nSaturday\, March 28\nMontgomery Auditorium\nAuditions are by appointment ONLY | rcoker@se.edu\nOPEN TO ALL\nwww.OklahomaShakes.com
URL:https://www.se.edu/event/lightning-thief-auditions/
CATEGORIES:Community Events,Oklahoma Shakespearean Festival,Theatre
ATTACH;FMTTYPE=image/png:https://www.se.edu/wp-content/uploads/2026/03/YAS-AUDITIONS.png
END:VEVENT
BEGIN:VEVENT
DTSTART;TZID=America/Chicago:20260402T140000
DTEND;TZID=America/Chicago:20260402T150000
DTSTAMP:20260422T173051
CREATED:20260324T131445Z
LAST-MODIFIED:20260324T131445Z
UID:10001431-1775138400-1775142000@www.se.edu
SUMMARY:Faculty Feature: Dr. Mila Zhu
DESCRIPTION:Faculty Feature: Research Edition\nHosted by Academic Affairs\, this special event will spotlight Dr. Mila Zhu and her new book.\nJoin us for an engaging discussion and the opportunity to learn more about Dr. Zhu’s latest research and publication. We look forward to seeing you there! \n🗓 Date: April 2\, 2026\n⏰ Time: 2:00 PM\n📍 Location: Native American Commons\, Henry G. Bennett Memorial Library
URL:https://www.se.edu/event/faculty-feature-dr-mila-zhu/
CATEGORIES:Career Services,Community Events,Faculty/Staff Events,Informational Sessions,Student Life
ATTACH;FMTTYPE=image/jpeg:https://www.se.edu/wp-content/uploads/2026/03/Faculty-Feature-Mila-Zhu.jpg
END:VEVENT
BEGIN:VEVENT
DTSTART;TZID=America/Chicago:20260409T080000
DTEND;TZID=America/Chicago:20260409T170000
DTSTAMP:20260422T173051
CREATED:20260109T163159Z
LAST-MODIFIED:20260224T200621Z
UID:10001388-1775721600-1775754000@www.se.edu
SUMMARY:Junior Day
DESCRIPTION:Join us for Junior Day on Saturday\, April 9\, 2026. \nDetails coming soon!
URL:https://www.se.edu/event/junior-day/
CATEGORIES:Academic,Admissions & Recruitment,Community Events,Student Life
ATTACH;FMTTYPE=image/png:https://www.se.edu/wp-content/uploads/2025/12/SE-Alone-gold.png
END:VEVENT
BEGIN:VEVENT
DTSTART;TZID=America/Chicago:20260409T150000
DTEND;TZID=America/Chicago:20260409T163000
DTSTAMP:20260422T173051
CREATED:20260312T193937Z
LAST-MODIFIED:20260312T193937Z
UID:10001429-1775746800-1775752200@www.se.edu
SUMMARY:Freshman Success Celebration
DESCRIPTION:We hope you’ll join us for our Freshman Success celebration.  This event celebrates first time freshman that were enrolled at SE in the fall 2025 semester and earned a 3.25 or higher GPA.  The event will be held Thursday\, April 9\, 2026\, at 3 pm in the Ballroom.
URL:https://www.se.edu/event/freshman-success-celebration/
CATEGORIES:Academic,Community Events,Student Life
ATTACH;FMTTYPE=image/jpeg:https://www.se.edu/wp-content/uploads/2026/02/Icon-01.jpg
END:VEVENT
BEGIN:VEVENT
DTSTART;TZID=America/Chicago:20260411T083000
DTEND;TZID=America/Chicago:20260411T110000
DTSTAMP:20260422T173051
CREATED:20260312T183722Z
LAST-MODIFIED:20260312T183844Z
UID:10001424-1775896200-1775905200@www.se.edu
SUMMARY:SPARKS Audition Day
DESCRIPTION:SPARKS! Audition Day\nAre you interested in being a SPARK?\nThe SPARKS perform at sporting events and have a holiday performance and a spring showcase. Scholarships are available to members of the team.\nApril 11 | 8:30 am – 11:00 am | Montgomery Auditorium \nFor more information contact: Riley Risso Coker | rcoker@se.edu 
URL:https://www.se.edu/event/sparks-audition-day/
CATEGORIES:Admissions & Recruitment,Community Events,Sparks Dance Team,Student Life,Theatre
ATTACH;FMTTYPE=image/jpeg:https://www.se.edu/wp-content/uploads/2026/03/SPARKS-Auditions.jpg
END:VEVENT
BEGIN:VEVENT
DTSTART;TZID=America/Chicago:20260411T130000
DTEND;TZID=America/Chicago:20260411T150000
DTSTAMP:20260422T173051
CREATED:20260312T184629Z
LAST-MODIFIED:20260312T184629Z
UID:10001425-1775912400-1775919600@www.se.edu
SUMMARY:Chorvettes Audition Day!
DESCRIPTION:Chorvettes Audition Day \nAre you interested in being a Chorvette?\nThe Chorvettes have fall\, winter\, and spring performances. \nApril 11 | 1:00 pm – 3:00 pm | Visual and Performing Arts Center\n1614 North First Street\, Durant\, OK 74701 \nFor more information contact: Deborah Clements | dclements@se.edu\nTo prepare for auditions bring with you: \n\nHeadshot\nResume\nPrepare a 1-minute audition cut from a pop song (no rap) and dress ready to DANCE!\nScholarships are available to members of the team!
URL:https://www.se.edu/event/chorvettes-audition-day/
CATEGORIES:Admissions & Recruitment,Chorvettes,Community Events,Student Life,Theatre
ATTACH;FMTTYPE=image/jpeg:https://www.se.edu/wp-content/uploads/2026/03/Chorvettes-Auditions.jpg
END:VEVENT
BEGIN:VEVENT
DTSTART;TZID=America/Chicago:20260413T110000
DTEND;TZID=America/Chicago:20260413T140000
DTSTAMP:20260422T173051
CREATED:20260330T140332Z
LAST-MODIFIED:20260330T140332Z
UID:10001438-1776078000-1776088800@www.se.edu
SUMMARY:Lunch on the Lawn
DESCRIPTION:
URL:https://www.se.edu/event/lunch-on-the-lawn-2/
CATEGORIES:Community Events,Faculty/Staff Events,Student Life
ATTACH;FMTTYPE=image/png:https://www.se.edu/wp-content/uploads/2026/03/333.png
END:VEVENT
BEGIN:VEVENT
DTSTART;TZID=America/Chicago:20260413T180000
DTEND;TZID=America/Chicago:20260413T210000
DTSTAMP:20260422T173051
CREATED:20260330T141325Z
LAST-MODIFIED:20260330T141325Z
UID:10001439-1776103200-1776114000@www.se.edu
SUMMARY:Springfest Block Party
DESCRIPTION:
URL:https://www.se.edu/event/springfest-block-party/
CATEGORIES:Alumni Events,Community Events,Faculty/Staff Events,Student Life
ATTACH;FMTTYPE=image/jpeg:https://www.se.edu/wp-content/uploads/2026/03/Student-Life.jpg
END:VEVENT
BEGIN:VEVENT
DTSTART;TZID=America/Chicago:20260414T130000
DTEND;TZID=America/Chicago:20260414T140000
DTSTAMP:20260422T173051
CREATED:20260330T141636Z
LAST-MODIFIED:20260330T141636Z
UID:10001440-1776171600-1776175200@www.se.edu
SUMMARY:Baseball Tailgate & Game
DESCRIPTION:
URL:https://www.se.edu/event/baseball-tailgate-game/
CATEGORIES:Athletics,Community Events,Faculty/Staff Events,Student Life,Student Organization Sponsored,Tailgate Events
ATTACH;FMTTYPE=image/jpeg:https://www.se.edu/wp-content/uploads/2026/03/Student-Life.jpg
END:VEVENT
BEGIN:VEVENT
DTSTART;TZID=America/Chicago:20260415T170000
DTEND;TZID=America/Chicago:20260415T200000
DTSTAMP:20260422T173051
CREATED:20260330T152020Z
LAST-MODIFIED:20260330T152020Z
UID:10001444-1776272400-1776283200@www.se.edu
SUMMARY:Springfest: Mud Volleyball Tournament
DESCRIPTION:
URL:https://www.se.edu/event/springfest-mud-volleyball-tournament/
CATEGORIES:Community Events,Faculty/Staff Events,Student Life
ATTACH;FMTTYPE=image/jpeg:https://www.se.edu/wp-content/uploads/2026/03/Student-Life.jpg
END:VEVENT
BEGIN:VEVENT
DTSTART;TZID=America/Chicago:20260418T140000
DTEND;TZID=America/Chicago:20260418T153000
DTSTAMP:20260422T173051
CREATED:20260303T183402Z
LAST-MODIFIED:20260303T183402Z
UID:10001409-1776520800-1776526200@www.se.edu
SUMMARY:How I became a PIRATE
DESCRIPTION:How I became a Pirate\nApril 18 | 2:00 pm & 7:00 pm\nVisual and Performing Arts Center\n$10.00 per ticket | Click to purchase tickets\nTickets can also be purchased by calling: 580-745-2696
URL:https://www.se.edu/event/how-i-became-a-pirate/2026-04-18/1/
CATEGORIES:Community Events,Faculty/Staff Events,Theatre
ATTACH;FMTTYPE=image/png:https://www.se.edu/wp-content/uploads/2026/03/PIRATE-Tix.png
END:VEVENT
END:VCALENDAR