BEGIN:VCALENDAR
VERSION:2.0
PRODID:-//Southeastern Oklahoma State University - ECPv6.15.3//NONSGML v1.0//EN
CALSCALE:GREGORIAN
METHOD:PUBLISH
X-ORIGINAL-URL:https://www.se.edu
X-WR-CALDESC:Events for Southeastern Oklahoma State University
REFRESH-INTERVAL;VALUE=DURATION:PT1H
X-Robots-Tag:noindex
X-PUBLISHED-TTL:PT1H
BEGIN:VTIMEZONE
TZID:America/Chicago
BEGIN:DAYLIGHT
TZOFFSETFROM:-0600
TZOFFSETTO:-0500
TZNAME:CDT
DTSTART:20260308T080000
END:DAYLIGHT
BEGIN:STANDARD
TZOFFSETFROM:-0500
TZOFFSETTO:-0600
TZNAME:CST
DTSTART:20261101T070000
END:STANDARD
END:VTIMEZONE
BEGIN:VEVENT
DTSTART;VALUE=DATE:20260327
DTEND;VALUE=DATE:20260328
DTSTAMP:20260421T193018
CREATED:20260305T224143Z
LAST-MODIFIED:20260305T224143Z
UID:10001422-1774569600-1774655999@www.se.edu
SUMMARY:Imagine Action: Dance Edition
DESCRIPTION:  \n  \n  \n  \n  \n  \n  \nJoin us on Friday\, 27 March for a day of dance workshops with our experienced faculty.  You’ll even get to have your headshot taken! \nBallet\, Tap\, Music Theatre\, Jazz\, Hip Hop\, Contempary \nA FREE interactive performing arts day designed to give students exposure and engagement with the Department of Performing Arts’ in-person DANCE MINOR! \nOpen to Current SE Students interested in a Dance Minor. \nAll experience levels are welcome\, even those who have never danced before. \nBest part?  It’s FREE! \nContact Email mjorgenson@se.edu and register TODAY! \nCome dance with us!
URL:https://www.se.edu/event/imagine-action-dance-edition/
CATEGORIES:Community Events,Oklahoma Shakespearean Festival,Theatre
ATTACH;FMTTYPE=image/png:https://www.se.edu/wp-content/uploads/2026/03/Screenshot-2026-03-05-at-4.38.10-PM.png
END:VEVENT
BEGIN:VEVENT
DTSTART;TZID=America/Chicago:20260327T160000
DTEND;TZID=America/Chicago:20260327T170000
DTSTAMP:20260421T193018
CREATED:20260309T182434Z
LAST-MODIFIED:20260309T182434Z
UID:10001423-1774627200-1774630800@www.se.edu
SUMMARY:Narcan Training
DESCRIPTION:Narcan Training: Overdoes reversal \nFREE\nFriday\, March 27 | 4:00 pm\nStudent Union Room 202 \nTraining Includes:\nPre/post test to assess your knowledge\nQuick Video and Demonstration\nFREE Narcan and Fentanyl test strips \nIf you require accommodations\, please contact the Student Wellness Services at 580-745-2988 to request assistance. 
URL:https://www.se.edu/event/narcan-training-2/
CATEGORIES:Community Events,Student Life,Student Services
ATTACH;FMTTYPE=image/png:https://www.se.edu/wp-content/uploads/2026/03/Screenshot-2026-03-09-at-1.22.28-PM.png
END:VEVENT
BEGIN:VEVENT
DTSTART;TZID=America/Chicago:20260328T080000
DTEND;TZID=America/Chicago:20260328T170000
DTSTAMP:20260421T193018
CREATED:20260303T185900Z
LAST-MODIFIED:20260303T185900Z
UID:10001419-1774684800-1774717200@www.se.edu
SUMMARY:Lightning Thief Auditions
DESCRIPTION:Lightning Thief Auditions\nSaturday\, March 28\nMontgomery Auditorium\nAuditions are by appointment ONLY | rcoker@se.edu\nOPEN TO ALL\nwww.OklahomaShakes.com
URL:https://www.se.edu/event/lightning-thief-auditions/
CATEGORIES:Community Events,Oklahoma Shakespearean Festival,Theatre
ATTACH;FMTTYPE=image/png:https://www.se.edu/wp-content/uploads/2026/03/YAS-AUDITIONS.png
END:VEVENT
BEGIN:VEVENT
DTSTART;TZID=America/Chicago:20260402T140000
DTEND;TZID=America/Chicago:20260402T150000
DTSTAMP:20260421T193018
CREATED:20260324T131445Z
LAST-MODIFIED:20260324T131445Z
UID:10001431-1775138400-1775142000@www.se.edu
SUMMARY:Faculty Feature: Dr. Mila Zhu
DESCRIPTION:Faculty Feature: Research Edition\nHosted by Academic Affairs\, this special event will spotlight Dr. Mila Zhu and her new book.\nJoin us for an engaging discussion and the opportunity to learn more about Dr. Zhu’s latest research and publication. We look forward to seeing you there! \n🗓 Date: April 2\, 2026\n⏰ Time: 2:00 PM\n📍 Location: Native American Commons\, Henry G. Bennett Memorial Library
URL:https://www.se.edu/event/faculty-feature-dr-mila-zhu/
CATEGORIES:Career Services,Community Events,Faculty/Staff Events,Informational Sessions,Student Life
ATTACH;FMTTYPE=image/jpeg:https://www.se.edu/wp-content/uploads/2026/03/Faculty-Feature-Mila-Zhu.jpg
END:VEVENT
BEGIN:VEVENT
DTSTART;TZID=America/Chicago:20260409T080000
DTEND;TZID=America/Chicago:20260409T170000
DTSTAMP:20260421T193018
CREATED:20260109T163159Z
LAST-MODIFIED:20260224T200621Z
UID:10001388-1775721600-1775754000@www.se.edu
SUMMARY:Junior Day
DESCRIPTION:Join us for Junior Day on Saturday\, April 9\, 2026. \nDetails coming soon!
URL:https://www.se.edu/event/junior-day/
CATEGORIES:Academic,Admissions & Recruitment,Community Events,Student Life
ATTACH;FMTTYPE=image/png:https://www.se.edu/wp-content/uploads/2025/12/SE-Alone-gold.png
END:VEVENT
BEGIN:VEVENT
DTSTART;TZID=America/Chicago:20260409T150000
DTEND;TZID=America/Chicago:20260409T163000
DTSTAMP:20260421T193018
CREATED:20260312T193937Z
LAST-MODIFIED:20260312T193937Z
UID:10001429-1775746800-1775752200@www.se.edu
SUMMARY:Freshman Success Celebration
DESCRIPTION:We hope you’ll join us for our Freshman Success celebration.  This event celebrates first time freshman that were enrolled at SE in the fall 2025 semester and earned a 3.25 or higher GPA.  The event will be held Thursday\, April 9\, 2026\, at 3 pm in the Ballroom.
URL:https://www.se.edu/event/freshman-success-celebration/
CATEGORIES:Academic,Community Events,Student Life
ATTACH;FMTTYPE=image/jpeg:https://www.se.edu/wp-content/uploads/2026/02/Icon-01.jpg
END:VEVENT
BEGIN:VEVENT
DTSTART;TZID=America/Chicago:20260411T083000
DTEND;TZID=America/Chicago:20260411T110000
DTSTAMP:20260421T193018
CREATED:20260312T183722Z
LAST-MODIFIED:20260312T183844Z
UID:10001424-1775896200-1775905200@www.se.edu
SUMMARY:SPARKS Audition Day
DESCRIPTION:SPARKS! Audition Day\nAre you interested in being a SPARK?\nThe SPARKS perform at sporting events and have a holiday performance and a spring showcase. Scholarships are available to members of the team.\nApril 11 | 8:30 am – 11:00 am | Montgomery Auditorium \nFor more information contact: Riley Risso Coker | rcoker@se.edu 
URL:https://www.se.edu/event/sparks-audition-day/
CATEGORIES:Admissions & Recruitment,Community Events,Sparks Dance Team,Student Life,Theatre
ATTACH;FMTTYPE=image/jpeg:https://www.se.edu/wp-content/uploads/2026/03/SPARKS-Auditions.jpg
END:VEVENT
BEGIN:VEVENT
DTSTART;TZID=America/Chicago:20260411T130000
DTEND;TZID=America/Chicago:20260411T150000
DTSTAMP:20260421T193018
CREATED:20260312T184629Z
LAST-MODIFIED:20260312T184629Z
UID:10001425-1775912400-1775919600@www.se.edu
SUMMARY:Chorvettes Audition Day!
DESCRIPTION:Chorvettes Audition Day \nAre you interested in being a Chorvette?\nThe Chorvettes have fall\, winter\, and spring performances. \nApril 11 | 1:00 pm – 3:00 pm | Visual and Performing Arts Center\n1614 North First Street\, Durant\, OK 74701 \nFor more information contact: Deborah Clements | dclements@se.edu\nTo prepare for auditions bring with you: \n\nHeadshot\nResume\nPrepare a 1-minute audition cut from a pop song (no rap) and dress ready to DANCE!\nScholarships are available to members of the team!
URL:https://www.se.edu/event/chorvettes-audition-day/
CATEGORIES:Admissions & Recruitment,Chorvettes,Community Events,Student Life,Theatre
ATTACH;FMTTYPE=image/jpeg:https://www.se.edu/wp-content/uploads/2026/03/Chorvettes-Auditions.jpg
END:VEVENT
BEGIN:VEVENT
DTSTART;TZID=America/Chicago:20260413T110000
DTEND;TZID=America/Chicago:20260413T140000
DTSTAMP:20260421T193018
CREATED:20260330T140332Z
LAST-MODIFIED:20260330T140332Z
UID:10001438-1776078000-1776088800@www.se.edu
SUMMARY:Lunch on the Lawn
DESCRIPTION:
URL:https://www.se.edu/event/lunch-on-the-lawn-2/
CATEGORIES:Community Events,Faculty/Staff Events,Student Life
ATTACH;FMTTYPE=image/png:https://www.se.edu/wp-content/uploads/2026/03/333.png
END:VEVENT
BEGIN:VEVENT
DTSTART;TZID=America/Chicago:20260413T180000
DTEND;TZID=America/Chicago:20260413T210000
DTSTAMP:20260421T193018
CREATED:20260330T141325Z
LAST-MODIFIED:20260330T141325Z
UID:10001439-1776103200-1776114000@www.se.edu
SUMMARY:Springfest Block Party
DESCRIPTION:
URL:https://www.se.edu/event/springfest-block-party/
CATEGORIES:Alumni Events,Community Events,Faculty/Staff Events,Student Life
ATTACH;FMTTYPE=image/jpeg:https://www.se.edu/wp-content/uploads/2026/03/Student-Life.jpg
END:VEVENT
BEGIN:VEVENT
DTSTART;TZID=America/Chicago:20260414T130000
DTEND;TZID=America/Chicago:20260414T140000
DTSTAMP:20260421T193018
CREATED:20260330T141636Z
LAST-MODIFIED:20260330T141636Z
UID:10001440-1776171600-1776175200@www.se.edu
SUMMARY:Baseball Tailgate & Game
DESCRIPTION:
URL:https://www.se.edu/event/baseball-tailgate-game/
CATEGORIES:Athletics,Community Events,Faculty/Staff Events,Student Life,Student Organization Sponsored,Tailgate Events
ATTACH;FMTTYPE=image/jpeg:https://www.se.edu/wp-content/uploads/2026/03/Student-Life.jpg
END:VEVENT
BEGIN:VEVENT
DTSTART;TZID=America/Chicago:20260415T170000
DTEND;TZID=America/Chicago:20260415T200000
DTSTAMP:20260421T193018
CREATED:20260330T152020Z
LAST-MODIFIED:20260330T152020Z
UID:10001444-1776272400-1776283200@www.se.edu
SUMMARY:Springfest: Mud Volleyball Tournament
DESCRIPTION:
URL:https://www.se.edu/event/springfest-mud-volleyball-tournament/
CATEGORIES:Community Events,Faculty/Staff Events,Student Life
ATTACH;FMTTYPE=image/jpeg:https://www.se.edu/wp-content/uploads/2026/03/Student-Life.jpg
END:VEVENT
BEGIN:VEVENT
DTSTART;TZID=America/Chicago:20260418T140000
DTEND;TZID=America/Chicago:20260418T153000
DTSTAMP:20260421T193018
CREATED:20260303T183402Z
LAST-MODIFIED:20260303T183402Z
UID:10001409-1776520800-1776526200@www.se.edu
SUMMARY:How I became a PIRATE
DESCRIPTION:How I became a Pirate\nApril 18 | 2:00 pm & 7:00 pm\nVisual and Performing Arts Center\n$10.00 per ticket | Click to purchase tickets\nTickets can also be purchased by calling: 580-745-2696
URL:https://www.se.edu/event/how-i-became-a-pirate/2026-04-18/1/
CATEGORIES:Community Events,Faculty/Staff Events,Theatre
ATTACH;FMTTYPE=image/png:https://www.se.edu/wp-content/uploads/2026/03/PIRATE-Tix.png
END:VEVENT
BEGIN:VEVENT
DTSTART;TZID=America/Chicago:20260418T190000
DTEND;TZID=America/Chicago:20260418T203000
DTSTAMP:20260421T193018
CREATED:20260303T183402Z
LAST-MODIFIED:20260303T183402Z
UID:10001410-1776538800-1776544200@www.se.edu
SUMMARY:How I became a PIRATE
DESCRIPTION:How I became a Pirate\nApril 18 | 2:00 pm & 7:00 pm\nVisual and Performing Arts Center\n$10.00 per ticket | Click to purchase tickets\nTickets can also be purchased by calling: 580-745-2696
URL:https://www.se.edu/event/how-i-became-a-pirate/2026-04-18/2/
CATEGORIES:Community Events,Faculty/Staff Events,Theatre
ATTACH;FMTTYPE=image/png:https://www.se.edu/wp-content/uploads/2026/03/PIRATE-Tix.png
END:VEVENT
BEGIN:VEVENT
DTSTART;TZID=America/Chicago:20260420T153000
DTEND;TZID=America/Chicago:20260420T170000
DTSTAMP:20260421T193018
CREATED:20260312T193247Z
LAST-MODIFIED:20260312T193247Z
UID:10001427-1776699000-1776704400@www.se.edu
SUMMARY:Excellence Awards: Faculty & Staff Recognition
DESCRIPTION:CELEBRATE!\n2025 – 2-26\nExcellence Awards: Faculty & Staff Recognition\nApril 20 | 3:30 pm\nSoutheastern Oklahoma State University\nMorrison Hall | Montgomery Auditorium \nRefreshments will be served!\nRSVP by clicking the link below\nRSVP Form\nRSVP Deadline: April 13
URL:https://www.se.edu/event/excellence-awards-faculty-staff-recognition/
CATEGORIES:Community Events,Faculty/Staff Events
ATTACH;FMTTYPE=image/png:https://www.se.edu/wp-content/uploads/2026/03/Faculty-Staff-Rec.png
END:VEVENT
BEGIN:VEVENT
DTSTART;TZID=America/Chicago:20260425T100000
DTEND;TZID=America/Chicago:20260425T110000
DTSTAMP:20260421T193018
CREATED:20260407T032111Z
LAST-MODIFIED:20260407T032111Z
UID:10001457-1777111200-1777114800@www.se.edu
SUMMARY:Spring Fling
DESCRIPTION:
URL:https://www.se.edu/event/spring-fling/
CATEGORIES:Community Events,Oklahoma Shakespearean Festival,Theatre
ATTACH;FMTTYPE=image/png:https://www.se.edu/wp-content/uploads/2026/04/SPRING-FLING.png
END:VEVENT
BEGIN:VEVENT
DTSTART;TZID=America/Chicago:20260501T190000
DTEND;TZID=America/Chicago:20260501T200000
DTSTAMP:20260421T193018
CREATED:20260303T184229Z
LAST-MODIFIED:20260303T184229Z
UID:10001411-1777662000-1777665600@www.se.edu
SUMMARY:Alice in Wonderland JR.
DESCRIPTION:Alice in Wonderland JR.\nMay 1 | 7:00 pm\nMay 2 | 2:00 pm & 7:00 pm\nMontgomery Auditorium\n$10.00 per ticket | Click to purchase tickets\nTickets can also be purchased by calling: 580-745-2696
URL:https://www.se.edu/event/alice-in-wonderland-jr/2026-05-01/
CATEGORIES:Community Events,Faculty/Staff Events,Theatre
ATTACH;FMTTYPE=image/png:https://www.se.edu/wp-content/uploads/2026/03/ALICE-Tix.png
END:VEVENT
BEGIN:VEVENT
DTSTART;TZID=America/Chicago:20260502T140000
DTEND;TZID=America/Chicago:20260502T150000
DTSTAMP:20260421T193018
CREATED:20260303T184229Z
LAST-MODIFIED:20260303T184229Z
UID:10001412-1777730400-1777734000@www.se.edu
SUMMARY:Alice in Wonderland JR.
DESCRIPTION:Alice in Wonderland JR.\nMay 1 | 7:00 pm\nMay 2 | 2:00 pm & 7:00 pm\nMontgomery Auditorium\n$10.00 per ticket | Click to purchase tickets\nTickets can also be purchased by calling: 580-745-2696
URL:https://www.se.edu/event/alice-in-wonderland-jr/2026-05-02/1/
CATEGORIES:Community Events,Faculty/Staff Events,Theatre
ATTACH;FMTTYPE=image/png:https://www.se.edu/wp-content/uploads/2026/03/ALICE-Tix.png
END:VEVENT
BEGIN:VEVENT
DTSTART;TZID=America/Chicago:20260502T190000
DTEND;TZID=America/Chicago:20260502T200000
DTSTAMP:20260421T193018
CREATED:20260303T184229Z
LAST-MODIFIED:20260303T184229Z
UID:10001413-1777748400-1777752000@www.se.edu
SUMMARY:Alice in Wonderland JR.
DESCRIPTION:Alice in Wonderland JR.\nMay 1 | 7:00 pm\nMay 2 | 2:00 pm & 7:00 pm\nMontgomery Auditorium\n$10.00 per ticket | Click to purchase tickets\nTickets can also be purchased by calling: 580-745-2696
URL:https://www.se.edu/event/alice-in-wonderland-jr/2026-05-02/2/
CATEGORIES:Community Events,Faculty/Staff Events,Theatre
ATTACH;FMTTYPE=image/png:https://www.se.edu/wp-content/uploads/2026/03/ALICE-Tix.png
END:VEVENT
BEGIN:VEVENT
DTSTART;TZID=America/Chicago:20260508T190000
DTEND;TZID=America/Chicago:20260508T200000
DTSTAMP:20260421T193018
CREATED:20260303T184709Z
LAST-MODIFIED:20260303T184710Z
UID:10001414-1778266800-1778270400@www.se.edu
SUMMARY:Beetlejuice JR
DESCRIPTION:Beetlejuice\nMay 8 | 7:00 pm\nMay 9 | 2:00 pm & 7:00 pm\nMontgomery Auditorium\n$10.00 per ticket | Click to purchase tickets\nTickets can also be purchased by calling: 580-745-2696
URL:https://www.se.edu/event/beetlejuice-jr/2026-05-08/
CATEGORIES:Community Events,Faculty/Staff Events,Oklahoma Shakespearean Festival,Theatre
ATTACH;FMTTYPE=image/png:https://www.se.edu/wp-content/uploads/2026/03/BEETLEJUICE-Tix.png
END:VEVENT
BEGIN:VEVENT
DTSTART;TZID=America/Chicago:20260508T190000
DTEND;TZID=America/Chicago:20260508T203000
DTSTAMP:20260421T193018
CREATED:20260407T033906Z
LAST-MODIFIED:20260407T034105Z
UID:10001458-1778266800-1778272200@www.se.edu
SUMMARY:Beetlejuice
DESCRIPTION:
URL:https://www.se.edu/event/beetlejuice/2026-05-08/
CATEGORIES:Community Events,Oklahoma Shakespearean Festival,Theatre
ATTACH;FMTTYPE=image/png:https://www.se.edu/wp-content/uploads/2026/04/BEETLEJUICE-Tix.png
END:VEVENT
BEGIN:VEVENT
DTSTART;TZID=America/Chicago:20260509T140000
DTEND;TZID=America/Chicago:20260509T150000
DTSTAMP:20260421T193018
CREATED:20260303T184709Z
LAST-MODIFIED:20260303T184710Z
UID:10001415-1778335200-1778338800@www.se.edu
SUMMARY:Beetlejuice JR
DESCRIPTION:Beetlejuice\nMay 8 | 7:00 pm\nMay 9 | 2:00 pm & 7:00 pm\nMontgomery Auditorium\n$10.00 per ticket | Click to purchase tickets\nTickets can also be purchased by calling: 580-745-2696
URL:https://www.se.edu/event/beetlejuice-jr/2026-05-09/1/
CATEGORIES:Community Events,Faculty/Staff Events,Oklahoma Shakespearean Festival,Theatre
ATTACH;FMTTYPE=image/png:https://www.se.edu/wp-content/uploads/2026/03/BEETLEJUICE-Tix.png
END:VEVENT
BEGIN:VEVENT
DTSTART;TZID=America/Chicago:20260509T140000
DTEND;TZID=America/Chicago:20260509T153000
DTSTAMP:20260421T193018
CREATED:20260407T033906Z
LAST-MODIFIED:20260407T034105Z
UID:10001459-1778335200-1778340600@www.se.edu
SUMMARY:Beetlejuice
DESCRIPTION:
URL:https://www.se.edu/event/beetlejuice/2026-05-09/1/
CATEGORIES:Community Events,Oklahoma Shakespearean Festival,Theatre
ATTACH;FMTTYPE=image/png:https://www.se.edu/wp-content/uploads/2026/04/BEETLEJUICE-Tix.png
END:VEVENT
BEGIN:VEVENT
DTSTART;TZID=America/Chicago:20260509T190000
DTEND;TZID=America/Chicago:20260509T200000
DTSTAMP:20260421T193018
CREATED:20260303T184709Z
LAST-MODIFIED:20260303T184710Z
UID:10001416-1778353200-1778356800@www.se.edu
SUMMARY:Beetlejuice JR
DESCRIPTION:Beetlejuice\nMay 8 | 7:00 pm\nMay 9 | 2:00 pm & 7:00 pm\nMontgomery Auditorium\n$10.00 per ticket | Click to purchase tickets\nTickets can also be purchased by calling: 580-745-2696
URL:https://www.se.edu/event/beetlejuice-jr/2026-05-09/2/
CATEGORIES:Community Events,Faculty/Staff Events,Oklahoma Shakespearean Festival,Theatre
ATTACH;FMTTYPE=image/png:https://www.se.edu/wp-content/uploads/2026/03/BEETLEJUICE-Tix.png
END:VEVENT
BEGIN:VEVENT
DTSTART;TZID=America/Chicago:20260509T190000
DTEND;TZID=America/Chicago:20260509T203000
DTSTAMP:20260421T193018
CREATED:20260407T033906Z
LAST-MODIFIED:20260407T034105Z
UID:10001460-1778353200-1778358600@www.se.edu
SUMMARY:Beetlejuice
DESCRIPTION:
URL:https://www.se.edu/event/beetlejuice/2026-05-09/2/
CATEGORIES:Community Events,Oklahoma Shakespearean Festival,Theatre
ATTACH;FMTTYPE=image/png:https://www.se.edu/wp-content/uploads/2026/04/BEETLEJUICE-Tix.png
END:VEVENT
BEGIN:VEVENT
DTSTART;TZID=America/Chicago:20260512T180000
DTEND;TZID=America/Chicago:20260512T193000
DTSTAMP:20260421T193018
CREATED:20260211T170619Z
LAST-MODIFIED:20260211T170619Z
UID:10001403-1778608800-1778614200@www.se.edu
SUMMARY:Chautauqua Storyteller Series | Donna Courtney
DESCRIPTION:
URL:https://www.se.edu/event/chautauqua-storyteller-series-donna-courtney/
CATEGORIES:Alumni Events,Community Events,Faculty/Staff Events,Native American Institute,Semple Family Museum,Tribal Relations
ATTACH;FMTTYPE=image/png:https://www.se.edu/wp-content/uploads/2026/02/Screenshot-2026-02-11-at-11.05.19-AM.png
END:VEVENT
BEGIN:VEVENT
DTSTART;TZID=America/Chicago:20260531T080000
DTEND;TZID=America/Chicago:20260605T170000
DTSTAMP:20260421T193018
CREATED:20260406T165336Z
LAST-MODIFIED:20260406T165336Z
UID:10001456-1780214400-1780678800@www.se.edu
SUMMARY:Take Flight Aviation Camp
DESCRIPTION:
URL:https://www.se.edu/event/take-flight-aviation-camp/
CATEGORIES:Aviation,Community Events
ATTACH;FMTTYPE=image/png:https://www.se.edu/wp-content/uploads/2026/04/Take-flight.png
END:VEVENT
BEGIN:VEVENT
DTSTART;VALUE=DATE:20260601
DTEND;VALUE=DATE:20260605
DTSTAMP:20260421T193018
CREATED:20260312T194826Z
LAST-MODIFIED:20260312T194955Z
UID:10001430-1780272000-1780617599@www.se.edu
SUMMARY:PI-STEM Academy 2026
DESCRIPTION:
URL:https://www.se.edu/event/pi-stem-academy-2026/
CATEGORIES:Academic,Admissions & Recruitment,Community Events,Faculty/Staff Events,Informational Sessions
ATTACH;FMTTYPE=image/jpeg:https://www.se.edu/wp-content/uploads/2026/02/Icon-01.jpg
END:VEVENT
BEGIN:VEVENT
DTSTART;VALUE=DATE:20260612
DTEND;VALUE=DATE:20260613
DTSTAMP:20260421T193018
CREATED:20260401T195931Z
LAST-MODIFIED:20260401T195932Z
UID:10001455-1781222400-1781308799@www.se.edu
SUMMARY:SE Golf Classic
DESCRIPTION:
URL:https://www.se.edu/event/se-golf-classic/
CATEGORIES:Alumni Events,Athletics,Community Events,Faculty/Staff Events
ATTACH;FMTTYPE=image/png:https://www.se.edu/wp-content/uploads/2026/04/Golf-Classic-Sponsorships-02.png
END:VEVENT
BEGIN:VEVENT
DTSTART;TZID=America/Chicago:20260923T080000
DTEND;TZID=America/Chicago:20260923T170000
DTSTAMP:20260421T193018
CREATED:20260109T135805Z
LAST-MODIFIED:20260109T135805Z
UID:10001383-1790150400-1790182800@www.se.edu
SUMMARY:Safety Career Fair
DESCRIPTION:2026 Safety Career Fair\nWednesday\, September 23\, 2026\nHallie McKinney Ballroom | TBD \n\nStudent Registration COMING SOON! \nEmployer Registration COMING SOON!
URL:https://www.se.edu/event/safety-career-fair-3/
CATEGORIES:Career Services,Community Events,Student Life
ATTACH;FMTTYPE=image/png:https://www.se.edu/wp-content/uploads/2025/12/SE-Alone-gold.png
END:VEVENT
END:VCALENDAR