BEGIN:VCALENDAR
VERSION:2.0
PRODID:-//Southeastern Oklahoma State University - ECPv6.15.3//NONSGML v1.0//EN
CALSCALE:GREGORIAN
METHOD:PUBLISH
X-WR-CALNAME:Southeastern Oklahoma State University
X-ORIGINAL-URL:https://www.se.edu
X-WR-CALDESC:Events for Southeastern Oklahoma State University
REFRESH-INTERVAL;VALUE=DURATION:PT1H
X-Robots-Tag:noindex
X-PUBLISHED-TTL:PT1H
BEGIN:VTIMEZONE
TZID:America/Chicago
BEGIN:DAYLIGHT
TZOFFSETFROM:-0600
TZOFFSETTO:-0500
TZNAME:CDT
DTSTART:20240310T080000
END:DAYLIGHT
BEGIN:STANDARD
TZOFFSETFROM:-0500
TZOFFSETTO:-0600
TZNAME:CST
DTSTART:20241103T070000
END:STANDARD
END:VTIMEZONE
BEGIN:VEVENT
DTSTART;TZID=America/Chicago:20241105T103000
DTEND;TZID=America/Chicago:20241105T160000
DTSTAMP:20260422T085238
CREATED:20241028T194213Z
LAST-MODIFIED:20241028T194213Z
UID:10000629-1730802600-1730822400@www.se.edu
SUMMARY:Blood Drive
DESCRIPTION:Why Donate? Every donation can help save multiple lives\, and as a token of appreciation\, all rein-donors will receive a long-sleeved\, back print holiday T-shirt (while supplies last).\n\nAdditional Perks: Participate in our Holiday Trivia game for a chance to win special prizes! Simply scan the code at the event to join in the fun.\n\nHow to Sign Up: To make an appointment\, scan the QR code on the attached flyer or contact Michelle McGuire at 580-220-9420.\n\nCannot Donate Blood?: Contact Michelle McGuire\, there are other ways to serve!
URL:https://www.se.edu/event/blood-drive/2024-11-05/
LOCATION:SU Loft
CATEGORIES:Informational Sessions
ATTACH;FMTTYPE=image/jpeg:https://www.se.edu/wp-content/uploads/2024/10/Unknown.jpeg
END:VEVENT
BEGIN:VEVENT
DTSTART;TZID=America/Chicago:20241106T103000
DTEND;TZID=America/Chicago:20241106T160000
DTSTAMP:20260422T085238
CREATED:20241028T194213Z
LAST-MODIFIED:20241028T194213Z
UID:10000630-1730889000-1730908800@www.se.edu
SUMMARY:Blood Drive
DESCRIPTION:Why Donate? Every donation can help save multiple lives\, and as a token of appreciation\, all rein-donors will receive a long-sleeved\, back print holiday T-shirt (while supplies last).\n\nAdditional Perks: Participate in our Holiday Trivia game for a chance to win special prizes! Simply scan the code at the event to join in the fun.\n\nHow to Sign Up: To make an appointment\, scan the QR code on the attached flyer or contact Michelle McGuire at 580-220-9420.\n\nCannot Donate Blood?: Contact Michelle McGuire\, there are other ways to serve!
URL:https://www.se.edu/event/blood-drive/2024-11-06/
LOCATION:SU Loft
CATEGORIES:Informational Sessions
ATTACH;FMTTYPE=image/jpeg:https://www.se.edu/wp-content/uploads/2024/10/Unknown.jpeg
END:VEVENT
BEGIN:VEVENT
DTSTART;TZID=America/Chicago:20241108T093000
DTEND;TZID=America/Chicago:20241108T120000
DTSTAMP:20260422T085238
CREATED:20241101T133032Z
LAST-MODIFIED:20241101T133032Z
UID:10000631-1731058200-1731067200@www.se.edu
SUMMARY:First Generation Celebration
DESCRIPTION:Everyone is invited to attend the event! \nThe First Generation Celebration nurtures connection: a connection to ones self & your community. \nEvent sessions will focus on Team Building\, Imposter Syndrome\, Southeastern Resources & Support & more.
URL:https://www.se.edu/event/first-generation-celebration/
LOCATION:SU Auditorium
CATEGORIES:Academic,Community Events,Informational Sessions,Student Life,Student Services
ATTACH;FMTTYPE=image/png:https://www.se.edu/wp-content/uploads/2024/11/First-Generation-Celebration-2024-.png
ORGANIZER;CN="Darla Ellett":MAILTO:dellett@se.edu
END:VEVENT
BEGIN:VEVENT
DTSTART;VALUE=DATE:20241114
DTEND;VALUE=DATE:20241116
DTSTAMP:20260422T085238
CREATED:20241016T142649Z
LAST-MODIFIED:20241016T142808Z
UID:10000597-1731542400-1731715199@www.se.edu
SUMMARY:Oklahoma Association of College & University Business Officers (OACUBO) Meeting
DESCRIPTION:
URL:https://www.se.edu/event/oacubo-meeting/
LOCATION:Ballroom\, 1408 North 5th Street\, Durant\, OK\, 74701\, United States
CATEGORIES:Faculty/Staff Events,Informational Sessions
ATTACH;FMTTYPE=image/png:https://www.se.edu/wp-content/uploads/2024/10/OACUBO.png
END:VEVENT
END:VCALENDAR