BEGIN:VCALENDAR
VERSION:2.0
PRODID:-//Southeastern Oklahoma State University - ECPv6.15.3//NONSGML v1.0//EN
CALSCALE:GREGORIAN
METHOD:PUBLISH
X-WR-CALNAME:Southeastern Oklahoma State University
X-ORIGINAL-URL:https://www.se.edu
X-WR-CALDESC:Events for Southeastern Oklahoma State University
REFRESH-INTERVAL;VALUE=DURATION:PT1H
X-Robots-Tag:noindex
X-PUBLISHED-TTL:PT1H
BEGIN:VTIMEZONE
TZID:America/Chicago
BEGIN:DAYLIGHT
TZOFFSETFROM:-0600
TZOFFSETTO:-0500
TZNAME:CDT
DTSTART:20240310T080000
END:DAYLIGHT
BEGIN:STANDARD
TZOFFSETFROM:-0500
TZOFFSETTO:-0600
TZNAME:CST
DTSTART:20241103T070000
END:STANDARD
END:VTIMEZONE
BEGIN:VEVENT
DTSTART;TZID=America/Chicago:20240903T140000
DTEND;TZID=America/Chicago:20240903T150000
DTSTAMP:20260422T152956
CREATED:20240828T153908Z
LAST-MODIFIED:20240828T154029Z
UID:10000317-1725372000-1725375600@www.se.edu
SUMMARY:Study Abroad Info Session
DESCRIPTION:The Office of Study Abroad is hosting a big informational session to bring the campus community up to speed about our upcoming Study Abroad Adventures (to Iceland in 2025 and two new and exciting locales in 2026)\, present our campus partners for full-semester programs\, and introduce the variety of scholarship and funding options available for these exciting programs.
URL:https://www.se.edu/event/study-abroad-info-session/
LOCATION:Russell Building
CATEGORIES:Informational Sessions
ORGANIZER;CN="Dr. Kyle Lincoln":MAILTO:klincoln@se.edu
END:VEVENT
END:VCALENDAR