BEGIN:VCALENDAR
VERSION:2.0
PRODID:-//Southeastern Oklahoma State University - ECPv6.15.3//NONSGML v1.0//EN
CALSCALE:GREGORIAN
METHOD:PUBLISH
X-WR-CALNAME:Southeastern Oklahoma State University
X-ORIGINAL-URL:https://www.se.edu
X-WR-CALDESC:Events for Southeastern Oklahoma State University
REFRESH-INTERVAL;VALUE=DURATION:PT1H
X-Robots-Tag:noindex
X-PUBLISHED-TTL:PT1H
BEGIN:VTIMEZONE
TZID:America/Chicago
BEGIN:DAYLIGHT
TZOFFSETFROM:-0600
TZOFFSETTO:-0500
TZNAME:CDT
DTSTART:20260308T080000
END:DAYLIGHT
BEGIN:STANDARD
TZOFFSETFROM:-0500
TZOFFSETTO:-0600
TZNAME:CST
DTSTART:20261101T070000
END:STANDARD
END:VTIMEZONE
BEGIN:VEVENT
DTSTART;TZID=America/Chicago:20260209T170000
DTEND;TZID=America/Chicago:20260209T183000
DTSTAMP:20260421T115653
CREATED:20260203T133443Z
LAST-MODIFIED:20260203T133443Z
UID:10001395-1770656400-1770661800@www.se.edu
SUMMARY:SE Speaks
DESCRIPTION:The workshop is designed to prepare students to speak effectively and with confidence about Southeastern. \nThe workshop will be on Monday\, February 9 from 5:00 p.m. – 6:30 p.m. in SU 213.  A light dinner will be served after the event.
URL:https://www.se.edu/event/se-speaks-2/
CATEGORIES:Informational Sessions,Student Life
ATTACH;FMTTYPE=image/jpeg:https://www.se.edu/wp-content/uploads/2025/04/DSC0017.jpg
END:VEVENT
END:VCALENDAR